BEGIN:VCALENDAR
PRODID:-//eluceo/ical//2.0/EN
VERSION:2.0
CALSCALE:GREGORIAN
BEGIN:VEVENT
UID:88c3b5fc90e9729d4e5ae0b18dad5317
DTSTAMP:20260424T015934Z
SUMMARY:Hinter die Kulissen geschaut - von der Wahl der Miss Schweiz 2009
DESCRIPTION:Orador(es): Lorena Oliveri (Teilnehmerin)
URL:https://rotary-heitersberg.ch/es/agenda/show/18766
DTSTART;TZID=Europe/Zurich:20111020T121500
DTEND;TZID=Europe/Zurich:20111020T121500
LOCATION:Gasthof Sternen
CATEGORIES:Rotary
END:VEVENT
BEGIN:VTIMEZONE
TZID:Europe/Zurich
BEGIN:DAYLIGHT
DTSTART:20111020T121500
TZNAME:CEST
TZOFFSETTO:+0200
TZOFFSETFROM:+0200
END:DAYLIGHT
END:VTIMEZONE
END:VCALENDAR
