BEGIN:VCALENDAR
PRODID:-//eluceo/ical//2.0/EN
VERSION:2.0
CALSCALE:GREGORIAN
BEGIN:VEVENT
UID:417102d121988c5c375a7581bf33c608
DTSTAMP:20260424T154325Z
SUMMARY:Adventsmarkt
DESCRIPTION:
URL:https://rotary-heitersberg.ch/es/agenda/show/180579
DTSTART;TZID=Europe/Zurich:20241207T090000
DTEND;TZID=Europe/Zurich:20241207T170000
LOCATION:Kirchplatz Baden
CATEGORIES:Rotary
END:VEVENT
BEGIN:VTIMEZONE
TZID:Europe/Zurich
BEGIN:STANDARD
DTSTART:20241207T090000
TZNAME:CET
TZOFFSETTO:+0100
TZOFFSETFROM:+0100
END:STANDARD
END:VTIMEZONE
END:VCALENDAR
