BEGIN:VCALENDAR
PRODID:-//eluceo/ical//2.0/EN
VERSION:2.0
CALSCALE:GREGORIAN
BEGIN:VEVENT
UID:2b3e6e92775e690dae15f77f4160b4ab
DTSTAMP:20260424T042652Z
SUMMARY:Plauderlunch
DESCRIPTION:
URL:https://rotary-heitersberg.ch/es/agenda/show/160407
DTSTART;TZID=Europe/Zurich:20230803T121500
DTEND;TZID=Europe/Zurich:20230803T140000
LOCATION:Gasthof Sternen - Wettingen\, Klosterstrasse 9\, 5430 Wettingen
CATEGORIES:Rotary
END:VEVENT
BEGIN:VTIMEZONE
TZID:Europe/Zurich
BEGIN:DAYLIGHT
DTSTART:20230803T121500
TZNAME:CEST
TZOFFSETTO:+0200
TZOFFSETFROM:+0200
END:DAYLIGHT
END:VTIMEZONE
END:VCALENDAR
