BEGIN:VCALENDAR
PRODID:-//eluceo/ical//2.0/EN
VERSION:2.0
CALSCALE:GREGORIAN
BEGIN:VEVENT
UID:96e4bf705fb25dd034871caa5d8e5930
DTSTAMP:20260422T220325Z
SUMMARY:13:00 Suppentag
DESCRIPTION:Speaker(s): Organisiert durch RC Wettingen
URL:https://rotary-heitersberg.ch/en/agenda/show/35569
DTSTART;TZID=Europe/Zurich:20131121T000000
DTEND;TZID=Europe/Zurich:20131121T000000
LOCATION:Zentrumsplatz Wettingen
CATEGORIES:Rotary
END:VEVENT
BEGIN:VTIMEZONE
TZID:Europe/Zurich
BEGIN:STANDARD
DTSTART:20131121T000000
TZNAME:CET
TZOFFSETTO:+0100
TZOFFSETFROM:+0100
END:STANDARD
END:VTIMEZONE
END:VCALENDAR
