BEGIN:VCALENDAR
PRODID:-//eluceo/ical//2.0/EN
VERSION:2.0
CALSCALE:GREGORIAN
BEGIN:VEVENT
UID:67e197c30acceba8273709930a221944
DTSTAMP:20260422T220549Z
SUMMARY:1. Neurotarierseminar 2013
DESCRIPTION:
URL:https://rotary-heitersberg.ch/en/agenda/show/33929
DTSTART;TZID=Europe/Zurich:20131026T000000
DTEND;TZID=Europe/Zurich:20131026T000000
LOCATION:Lenzburg
CATEGORIES:Rotary
END:VEVENT
BEGIN:VTIMEZONE
TZID:Europe/Zurich
BEGIN:DAYLIGHT
DTSTART:20131026T000000
TZNAME:CEST
TZOFFSETTO:+0200
TZOFFSETFROM:+0200
END:DAYLIGHT
END:VTIMEZONE
END:VCALENDAR
