BEGIN:VCALENDAR
PRODID:-//eluceo/ical//2.0/EN
VERSION:2.0
CALSCALE:GREGORIAN
BEGIN:VEVENT
UID:004ad044e4133d883f49132ed88ac401
DTSTAMP:20260422T211931Z
SUMMARY:12:15 Plauderlunch 
DESCRIPTION:
URL:https://rotary-heitersberg.ch/en/agenda/show/28292
DTSTART;TZID=Europe/Zurich:20130207T121500
DTEND;TZID=Europe/Zurich:20130207T121500
LOCATION:Gasthof Sternen
CATEGORIES:Rotary
END:VEVENT
BEGIN:VTIMEZONE
TZID:Europe/Zurich
BEGIN:STANDARD
DTSTART:20130207T121500
TZNAME:CET
TZOFFSETTO:+0100
TZOFFSETFROM:+0100
END:STANDARD
END:VTIMEZONE
END:VCALENDAR
