BEGIN:VCALENDAR
PRODID:-//eluceo/ical//2.0/EN
VERSION:2.0
CALSCALE:GREGORIAN
BEGIN:VEVENT
UID:34d9a344922c27bec555f5389504cda6
DTSTAMP:20260422T210416Z
SUMMARY:12:15 Referat RAV heute: Organisation / Angebot / Chancen
DESCRIPTION:Speaker(s): Frau Helen Walzik\, RAV Baden 
URL:https://rotary-heitersberg.ch/en/agenda/show/28277
DTSTART;TZID=Europe/Zurich:20130117T121500
DTEND;TZID=Europe/Zurich:20130117T121500
LOCATION:Gasthof Sternen
CATEGORIES:Rotary
END:VEVENT
BEGIN:VTIMEZONE
TZID:Europe/Zurich
BEGIN:STANDARD
DTSTART:20130117T121500
TZNAME:CET
TZOFFSETTO:+0100
TZOFFSETFROM:+0100
END:STANDARD
END:VTIMEZONE
END:VCALENDAR
