BEGIN:VCALENDAR
PRODID:-//eluceo/ical//2.0/EN
VERSION:2.0
CALSCALE:GREGORIAN
BEGIN:VEVENT
UID:f06a8d54dfd94cf3216599718cc503a2
DTSTAMP:20260422T230431Z
SUMMARY:12:15 Plauderlunch
DESCRIPTION:
URL:https://rotary-heitersberg.ch/en/agenda/show/25388
DTSTART;TZID=Europe/Zurich:20120927T121500
DTEND;TZID=Europe/Zurich:20120927T121500
LOCATION:Gasthof Sternen
CATEGORIES:Rotary
END:VEVENT
BEGIN:VTIMEZONE
TZID:Europe/Zurich
BEGIN:DAYLIGHT
DTSTART:20120927T121500
TZNAME:CEST
TZOFFSETTO:+0200
TZOFFSETFROM:+0200
END:DAYLIGHT
END:VTIMEZONE
END:VCALENDAR
