BEGIN:VCALENDAR
PRODID:-//eluceo/ical//2.0/EN
VERSION:2.0
CALSCALE:GREGORIAN
BEGIN:VEVENT
UID:b8b5376a87c36237ff5c326e205092db
DTSTAMP:20260422T220823Z
SUMMARY:10:30 Besuch Governor  / 11:00 Vorstand+Kommissionen / 12:15 Refera
 t DG Max Herzig
DESCRIPTION:Speaker(s): DG Max Herzig
URL:https://rotary-heitersberg.ch/en/agenda/show/24849
DTSTART;TZID=Europe/Zurich:20131024T103000
DTEND;TZID=Europe/Zurich:20131024T103000
LOCATION:Gasthof Sternen
CATEGORIES:Rotary
END:VEVENT
BEGIN:VTIMEZONE
TZID:Europe/Zurich
BEGIN:DAYLIGHT
DTSTART:20131024T103000
TZNAME:CEST
TZOFFSETTO:+0200
TZOFFSETFROM:+0200
END:DAYLIGHT
END:VTIMEZONE
END:VCALENDAR
