BEGIN:VCALENDAR
PRODID:-//eluceo/ical//2.0/EN
VERSION:2.0
CALSCALE:GREGORIAN
BEGIN:VEVENT
UID:48c2bc807acdba023af0919b5072a8c6
DTSTAMP:20260423T133722Z
SUMMARY:Informationen zum Rotary Institute von Rot Hartmut Vetter
DESCRIPTION:
URL:https://rotary-heitersberg.ch/en/agenda/show/144446
DTSTART;TZID=Europe/Zurich:20220811T121500
DTEND;TZID=Europe/Zurich:20220811T140000
LOCATION:Gasthof Sternen - Wettingen\, Klosterstrasse 9\, 5430 Wettingen
CATEGORIES:Rotary
END:VEVENT
BEGIN:VTIMEZONE
TZID:Europe/Zurich
BEGIN:DAYLIGHT
DTSTART:20220811T121500
TZNAME:CEST
TZOFFSETTO:+0200
TZOFFSETFROM:+0200
END:DAYLIGHT
END:VTIMEZONE
END:VCALENDAR
