BEGIN:VCALENDAR
PRODID:-//eluceo/ical//2.0/EN
VERSION:2.0
CALSCALE:GREGORIAN
BEGIN:VEVENT
UID:b2bf0e386686fed289ec78ca2374ea95
DTSTAMP:20260425T171808Z
SUMMARY:12.15 Uhr Plauderlunch
DESCRIPTION:
URL:https://rotary-heitersberg.ch/de/agenda/show/53488
DTSTART;TZID=Europe/Zurich:20150730T121500
DTEND;TZID=Europe/Zurich:20150730T121500
LOCATION:Gasthof Sternen
CATEGORIES:Rotary
END:VEVENT
BEGIN:VTIMEZONE
TZID:Europe/Zurich
BEGIN:DAYLIGHT
DTSTART:20150730T121500
TZNAME:CEST
TZOFFSETTO:+0200
TZOFFSETFROM:+0200
END:DAYLIGHT
END:VTIMEZONE
END:VCALENDAR
