BEGIN:VCALENDAR
PRODID:-//eluceo/ical//2.0/EN
VERSION:2.0
CALSCALE:GREGORIAN
BEGIN:VEVENT
UID:da0e0feac99cdcdc5d6b7d78c5f88413
DTSTAMP:20260421T102912Z
SUMMARY:Test
DESCRIPTION:Referenten/innen: Test
URL:https://rotary-heitersberg.ch/de/agenda/show/44577
DTSTART;TZID=Europe/Zurich:20140909T000000
DTEND;TZID=Europe/Zurich:20140909T000000
LOCATION:Gasthof Sternen
CATEGORIES:Rotary
END:VEVENT
BEGIN:VTIMEZONE
TZID:Europe/Zurich
BEGIN:DAYLIGHT
DTSTART:20140909T000000
TZNAME:CEST
TZOFFSETTO:+0200
TZOFFSETFROM:+0200
END:DAYLIGHT
END:VTIMEZONE
END:VCALENDAR
