BEGIN:VCALENDAR
PRODID:-//eluceo/ical//2.0/EN
VERSION:2.0
CALSCALE:GREGORIAN
BEGIN:VEVENT
UID:5799da8cb4be5c906099a14af98b7410
DTSTAMP:20260425T200527Z
SUMMARY:Informationsanlass Rotaract
DESCRIPTION:Lieber Interessent\, Liebe Interessentin Rotaract\nDas Motto vo
 n Rotaract heisst Helfen\, Lernen\, Feiern\nIn diesem Sinn realisieren die
  Mitglieder von Rotaract soziale und gemeinnützige Projekte. Auch das\nge
 sellige Beisammensein und der regelmässige Austausch untereinander kommen
  nicht zu kurz.\nGerne laden wir dich zur Informationsveranstaltung betref
 fen Gründung des Rotaract Clubs\nin der Region Baden Wettingen ein:\nRefe
 renten/innen: Kurzreferat Anna Lena Bertram\, Vize Distriktsprecherin Rota
 ract Distrikt 1980\nAnschliessend Fragerunde
URL:https://rotary-heitersberg.ch/de/agenda/show/44386
DTSTART;TZID=Europe/Zurich:20140911T190000
DTEND;TZID=Europe/Zurich:20140911T190000
LOCATION:Kantonsschule Wettingen Westschöpfe (Nähe Bahnhof Wettingen)
CATEGORIES:Rotary
END:VEVENT
BEGIN:VTIMEZONE
TZID:Europe/Zurich
BEGIN:DAYLIGHT
DTSTART:20140911T190000
TZNAME:CEST
TZOFFSETTO:+0200
TZOFFSETFROM:+0200
END:DAYLIGHT
END:VTIMEZONE
END:VCALENDAR
