BEGIN:VCALENDAR
PRODID:-//eluceo/ical//2.0/EN
VERSION:2.0
CALSCALE:GREGORIAN
BEGIN:VEVENT
UID:fb3cd10ae761d012820790c76f1b3f25
DTSTAMP:20260425T173753Z
SUMMARY:10:30 Vorstandssitzung / 11:15 Kommissionen / 12:15 Jahresversammlu
 ng
DESCRIPTION:
URL:https://rotary-heitersberg.ch/de/agenda/show/42608
DTSTART;TZID=Europe/Zurich:20141211T000000
DTEND;TZID=Europe/Zurich:20141211T000000
LOCATION:Gasthof Sternen
CATEGORIES:Rotary
END:VEVENT
BEGIN:VTIMEZONE
TZID:Europe/Zurich
BEGIN:STANDARD
DTSTART:20141211T000000
TZNAME:CET
TZOFFSETTO:+0100
TZOFFSETFROM:+0100
END:STANDARD
END:VTIMEZONE
END:VCALENDAR
