BEGIN:VCALENDAR
PRODID:-//eluceo/ical//2.0/EN
VERSION:2.0
CALSCALE:GREGORIAN
BEGIN:VEVENT
UID:a582b79b951f7d94c18574572145f4fa
DTSTAMP:20260425T190254Z
SUMMARY:11:30 Lunch bei Hächler / Badener Taxi
DESCRIPTION: \n\n \n\nVorstellung der Hächler-Gruppe sowie Badener Taxi 
 AG\n\nParkplätze vorhanden (Einweisung)\nReferenten/innen: Gastgeber: And
 ré Crelier\; Brigitte Steimer\; Roland Wunderli
URL:https://rotary-heitersberg.ch/de/agenda/show/39555
DTSTART;TZID=Europe/Zurich:20140522T113000
DTEND;TZID=Europe/Zurich:20140522T113000
LOCATION:Tägerhardstrasse 118\, Wettingen
CATEGORIES:Rotary
END:VEVENT
BEGIN:VTIMEZONE
TZID:Europe/Zurich
BEGIN:DAYLIGHT
DTSTART:20140522T113000
TZNAME:CEST
TZOFFSETTO:+0200
TZOFFSETFROM:+0200
END:DAYLIGHT
END:VTIMEZONE
END:VCALENDAR
