BEGIN:VCALENDAR
PRODID:-//eluceo/ical//2.0/EN
VERSION:2.0
CALSCALE:GREGORIAN
BEGIN:VEVENT
UID:3dbc25dbe1c4c93d826f1689390a44d5
DTSTAMP:20260425T202240Z
SUMMARY:12:15 Referat Herausforderung -  Kindertheater führen
DESCRIPTION:Referenten/innen: Mirca Dalla Piazza und Hanspeter Popp\, Teatr
 o Dalla Piazza
URL:https://rotary-heitersberg.ch/de/agenda/show/38299
DTSTART;TZID=Europe/Zurich:20140220T121500
DTEND;TZID=Europe/Zurich:20140220T121500
LOCATION:Gasthof Sternen
CATEGORIES:Rotary
END:VEVENT
BEGIN:VTIMEZONE
TZID:Europe/Zurich
BEGIN:STANDARD
DTSTART:20140220T121500
TZNAME:CET
TZOFFSETTO:+0100
TZOFFSETFROM:+0100
END:STANDARD
END:VTIMEZONE
END:VCALENDAR
