BEGIN:VCALENDAR
PRODID:-//eluceo/ical//2.0/EN
VERSION:2.0
CALSCALE:GREGORIAN
BEGIN:VEVENT
UID:6ee49c3bb1a2e991ffaef942ca9796fe
DTSTAMP:20260425T202027Z
SUMMARY:12:15 Referat Herausforderung -einen neuen TV-Sender gründen
DESCRIPTION:Referenten/innen: Hardy Lussi\, Geschäftsführer S1TV
URL:https://rotary-heitersberg.ch/de/agenda/show/35566
DTSTART;TZID=Europe/Zurich:20131031T000000
DTEND;TZID=Europe/Zurich:20131031T000000
LOCATION:Gasthof Sternen
CATEGORIES:Rotary
END:VEVENT
BEGIN:VTIMEZONE
TZID:Europe/Zurich
BEGIN:STANDARD
DTSTART:20131031T000000
TZNAME:CET
TZOFFSETTO:+0100
TZOFFSETFROM:+0100
END:STANDARD
END:VTIMEZONE
END:VCALENDAR
