BEGIN:VCALENDAR
PRODID:-//eluceo/ical//2.0/EN
VERSION:2.0
CALSCALE:GREGORIAN
BEGIN:VEVENT
UID:ae3a68dce094d207b261dab5f20c555a
DTSTAMP:20260426T042234Z
SUMMARY:PETS & Distriktversammlung 2014
DESCRIPTION:
URL:https://rotary-heitersberg.ch/de/agenda/show/33933
DTSTART;TZID=Europe/Zurich:20140404T000000
DTEND;TZID=Europe/Zurich:20140404T000000
LOCATION:Aarau
CATEGORIES:Rotary
END:VEVENT
BEGIN:VTIMEZONE
TZID:Europe/Zurich
BEGIN:DAYLIGHT
DTSTART:20140404T000000
TZNAME:CEST
TZOFFSETTO:+0200
TZOFFSETFROM:+0200
END:DAYLIGHT
END:VTIMEZONE
END:VCALENDAR
