BEGIN:VCALENDAR
PRODID:-//eluceo/ical//2.0/EN
VERSION:2.0
CALSCALE:GREGORIAN
BEGIN:VEVENT
UID:c77ca8ffe53e1f0908ab8d1bb6254e65
DTSTAMP:20260425T220040Z
SUMMARY:12:15 Referat Aiducation "sich Ausbilden in Kenia"
DESCRIPTION:Der RC Wettingen-Heitersberg hat während 3 Jahren 3 Schüler i
 n der Ausbildung finanziell unterstützt.\nReferenten/innen: Erfahrungsber
 icht von Frau Kapitza (Aiducation) und zwei Schülern.
URL:https://rotary-heitersberg.ch/de/agenda/show/33927
DTSTART;TZID=Europe/Zurich:20130926T000000
DTEND;TZID=Europe/Zurich:20130926T000000
LOCATION:Gasthof Sternen
CATEGORIES:Rotary
END:VEVENT
BEGIN:VTIMEZONE
TZID:Europe/Zurich
BEGIN:DAYLIGHT
DTSTART:20130926T000000
TZNAME:CEST
TZOFFSETTO:+0200
TZOFFSETFROM:+0200
END:DAYLIGHT
END:VTIMEZONE
END:VCALENDAR
