BEGIN:VCALENDAR
PRODID:-//eluceo/ical//2.0/EN
VERSION:2.0
CALSCALE:GREGORIAN
BEGIN:VEVENT
UID:4731924d10e62b5fe5ffe97b87e68135
DTSTAMP:20260425T215504Z
SUMMARY:12:15 Plauderlunch 
DESCRIPTION:
URL:https://rotary-heitersberg.ch/de/agenda/show/28311
DTSTART;TZID=Europe/Zurich:20130704T121500
DTEND;TZID=Europe/Zurich:20130704T121500
LOCATION:Gasthof Sternen
CATEGORIES:Rotary
END:VEVENT
BEGIN:VTIMEZONE
TZID:Europe/Zurich
BEGIN:DAYLIGHT
DTSTART:20130704T121500
TZNAME:CEST
TZOFFSETTO:+0200
TZOFFSETFROM:+0200
END:DAYLIGHT
END:VTIMEZONE
END:VCALENDAR
