BEGIN:VCALENDAR
PRODID:-//eluceo/ical//2.0/EN
VERSION:2.0
CALSCALE:GREGORIAN
BEGIN:VEVENT
UID:8ed505de825ebe4e85ab873287015bea
DTSTAMP:20260425T215153Z
SUMMARY:12:15 Lunch bei Obrist Transport Recycling AG
DESCRIPTION:Referenten/innen: Sabine Bärlocher
URL:https://rotary-heitersberg.ch/de/agenda/show/28287
DTSTART;TZID=Europe/Zurich:20130314T121500
DTEND;TZID=Europe/Zurich:20130314T121500
LOCATION:Neuenhof
CATEGORIES:Rotary
END:VEVENT
BEGIN:VTIMEZONE
TZID:Europe/Zurich
BEGIN:STANDARD
DTSTART:20130314T121500
TZNAME:CET
TZOFFSETTO:+0100
TZOFFSETFROM:+0100
END:STANDARD
END:VTIMEZONE
END:VCALENDAR
