BEGIN:VCALENDAR
PRODID:-//eluceo/ical//2.0/EN
VERSION:2.0
CALSCALE:GREGORIAN
BEGIN:VEVENT
UID:3de62c08083c01dba1307b732d21451c
DTSTAMP:20260425T214233Z
SUMMARY:12:15 Plauderlunch 
DESCRIPTION:
URL:https://rotary-heitersberg.ch/de/agenda/show/28284
DTSTART;TZID=Europe/Zurich:20130418T000000
DTEND;TZID=Europe/Zurich:20130418T000000
LOCATION:Gasthof Sternen
CATEGORIES:Rotary
END:VEVENT
BEGIN:VTIMEZONE
TZID:Europe/Zurich
BEGIN:DAYLIGHT
DTSTART:20130418T000000
TZNAME:CEST
TZOFFSETTO:+0200
TZOFFSETFROM:+0200
END:DAYLIGHT
END:VTIMEZONE
END:VCALENDAR
