BEGIN:VCALENDAR
PRODID:-//eluceo/ical//2.0/EN
VERSION:2.0
CALSCALE:GREGORIAN
BEGIN:VEVENT
UID:fbb35767ba9dbbd2400eccfe139df3d3
DTSTAMP:20260426T015406Z
SUMMARY:Amtsübergabe
DESCRIPTION:Partneranlass
URL:https://rotary-heitersberg.ch/de/agenda/show/24856
DTSTART;TZID=Europe/Zurich:20130630T180000
DTEND;TZID=Europe/Zurich:20130630T180000
LOCATION:Restaurant Hertenstein Ennetbaden
CATEGORIES:Rotary
END:VEVENT
BEGIN:VTIMEZONE
TZID:Europe/Zurich
BEGIN:DAYLIGHT
DTSTART:20130630T180000
TZNAME:CEST
TZOFFSETTO:+0200
TZOFFSETFROM:+0200
END:DAYLIGHT
END:VTIMEZONE
END:VCALENDAR
