BEGIN:VCALENDAR
PRODID:-//eluceo/ical//2.0/EN
VERSION:2.0
CALSCALE:GREGORIAN
BEGIN:VEVENT
UID:3fb811b0c5542db9227c56ef84dc3137
DTSTAMP:20260426T032925Z
SUMMARY:Partnerclub kommt zu Besuch
DESCRIPTION:
URL:https://rotary-heitersberg.ch/de/agenda/show/23252
DTSTART;TZID=Europe/Zurich:20130503T000000
DTEND;TZID=Europe/Zurich:20130505T000000
LOCATION:Wettingen
CATEGORIES:Rotary
END:VEVENT
BEGIN:VTIMEZONE
TZID:Europe/Zurich
BEGIN:DAYLIGHT
DTSTART:20130503T000000
TZNAME:CEST
TZOFFSETTO:+0200
TZOFFSETFROM:+0200
END:DAYLIGHT
END:VTIMEZONE
END:VCALENDAR
