BEGIN:VCALENDAR
PRODID:-//eluceo/ical//2.0/EN
VERSION:2.0
CALSCALE:GREGORIAN
BEGIN:VEVENT
UID:293dba98a6b54dd6ceb7b86821865a54
DTSTAMP:20260420T111620Z
SUMMARY:Nationbuilding und Völkermord: Der Untergang des Osmanischen Reich
 s und die Entstehung der "neuen" Türkei
DESCRIPTION:Referenten/innen: Dominik Schaler
URL:https://rotary-heitersberg.ch/de/agenda/show/20935
DTSTART;TZID=Europe/Zurich:20120308T121500
DTEND;TZID=Europe/Zurich:20120308T121500
LOCATION:Gasthof Sternen
CATEGORIES:Rotary
END:VEVENT
BEGIN:VTIMEZONE
TZID:Europe/Zurich
BEGIN:STANDARD
DTSTART:20120308T121500
TZNAME:CET
TZOFFSETTO:+0100
TZOFFSETFROM:+0100
END:STANDARD
END:VTIMEZONE
END:VCALENDAR
