BEGIN:VCALENDAR
PRODID:-//eluceo/ical//2.0/EN
VERSION:2.0
CALSCALE:GREGORIAN
BEGIN:VEVENT
UID:0aece637122ff3bfb08a625a2f8d8da8
DTSTAMP:20260425T223948Z
SUMMARY:3. Midlife-Party
DESCRIPTION:Tanzen und Festen für einen guten Zweck
URL:https://rotary-heitersberg.ch/de/agenda/show/20393
DTSTART;TZID=Europe/Zurich:20120121T200000
DTEND;TZID=Europe/Zurich:20120121T200000
LOCATION:Merker Areal Baden
CATEGORIES:Rotary
END:VEVENT
BEGIN:VTIMEZONE
TZID:Europe/Zurich
BEGIN:STANDARD
DTSTART:20120121T200000
TZNAME:CET
TZOFFSETTO:+0100
TZOFFSETFROM:+0100
END:STANDARD
END:VTIMEZONE
END:VCALENDAR
