BEGIN:VCALENDAR
PRODID:-//eluceo/ical//2.0/EN
VERSION:2.0
CALSCALE:GREGORIAN
BEGIN:VEVENT
UID:f013bb7f66b1032f26d0749a0a2ad7b7
DTSTAMP:20260424T023717Z
SUMMARY:Plauderlunch
DESCRIPTION:
URL:https://rotary-heitersberg.ch/de/agenda/show/144440
DTSTART;TZID=Europe/Zurich:20220714T121500
DTEND;TZID=Europe/Zurich:20220714T140000
LOCATION:Gasthof Sternen - Wettingen\, Klosterstrasse 9\, 5430 Wettingen
CATEGORIES:Rotary
END:VEVENT
BEGIN:VTIMEZONE
TZID:Europe/Zurich
BEGIN:DAYLIGHT
DTSTART:20220714T121500
TZNAME:CEST
TZOFFSETTO:+0200
TZOFFSETFROM:+0200
END:DAYLIGHT
END:VTIMEZONE
END:VCALENDAR
