BEGIN:VCALENDAR
PRODID:-//eluceo/ical//2.0/EN
VERSION:2.0
CALSCALE:GREGORIAN
BEGIN:VEVENT
UID:3348eff4d6941000a39e998d10de9daa
DTSTAMP:20260423T053306Z
SUMMARY:Skitag Rotaract Club
DESCRIPTION:Govornik(ci): Rotaract Club Baden
URL:https://rotary-heitersberg.ch/bs/agenda/show/68809
DTSTART;TZID=Europe/Zurich:20160107T000000
DTEND;TZID=Europe/Zurich:20160107T000000
LOCATION:Ski-Gebiet Melchsee-Frutt
CATEGORIES:Rotary
END:VEVENT
BEGIN:VTIMEZONE
TZID:Europe/Zurich
BEGIN:STANDARD
DTSTART:20160107T000000
TZNAME:CET
TZOFFSETTO:+0100
TZOFFSETFROM:+0100
END:STANDARD
END:VTIMEZONE
END:VCALENDAR
