BEGIN:VCALENDAR
PRODID:-//eluceo/ical//2.0/EN
VERSION:2.0
CALSCALE:GREGORIAN
BEGIN:VEVENT
UID:acb76ecc772c99810023f2c196f23409
DTSTAMP:20260422T233028Z
SUMMARY:12:15 Klassifikationsvortrag Evi Schüttel
DESCRIPTION:
URL:https://rotary-heitersberg.ch/bs/agenda/show/58964
DTSTART;TZID=Europe/Zurich:20160303T121500
DTEND;TZID=Europe/Zurich:20160303T121500
LOCATION:Gasthof Sternen
CATEGORIES:Rotary
END:VEVENT
BEGIN:VTIMEZONE
TZID:Europe/Zurich
BEGIN:STANDARD
DTSTART:20160303T121500
TZNAME:CET
TZOFFSETTO:+0100
TZOFFSETFROM:+0100
END:STANDARD
END:VTIMEZONE
END:VCALENDAR
