BEGIN:VCALENDAR
PRODID:-//eluceo/ical//2.0/EN
VERSION:2.0
CALSCALE:GREGORIAN
BEGIN:VEVENT
UID:2e6c0d16382f6cbad80a933d607a1376
DTSTAMP:20260422T232057Z
SUMMARY:12:15 Referat Hans Schneeberger\, Chefredaktor Migros Magazin
DESCRIPTION:
URL:https://rotary-heitersberg.ch/bs/agenda/show/58963
DTSTART;TZID=Europe/Zurich:20160121T121500
DTEND;TZID=Europe/Zurich:20160121T121500
LOCATION:Gasthof Sternen
CATEGORIES:Rotary
END:VEVENT
BEGIN:VTIMEZONE
TZID:Europe/Zurich
BEGIN:STANDARD
DTSTART:20160121T121500
TZNAME:CET
TZOFFSETTO:+0100
TZOFFSETFROM:+0100
END:STANDARD
END:VTIMEZONE
END:VCALENDAR
