BEGIN:VCALENDAR
PRODID:-//eluceo/ical//2.0/EN
VERSION:2.0
CALSCALE:GREGORIAN
BEGIN:VEVENT
UID:555c87aaec966450ec62d99f7f363971
DTSTAMP:20260422T232909Z
SUMMARY:11:45 Uhr Lunch im Altersheim Im Brühl 
DESCRIPTION:
URL:https://rotary-heitersberg.ch/bs/agenda/show/58530
DTSTART;TZID=Europe/Zurich:20160128T114500
DTEND;TZID=Europe/Zurich:20160128T114500
LOCATION:Spreitenbach
CATEGORIES:Rotary
END:VEVENT
BEGIN:VTIMEZONE
TZID:Europe/Zurich
BEGIN:STANDARD
DTSTART:20160128T114500
TZNAME:CET
TZOFFSETTO:+0100
TZOFFSETFROM:+0100
END:STANDARD
END:VTIMEZONE
END:VCALENDAR
