BEGIN:VCALENDAR
PRODID:-//eluceo/ical//2.0/EN
VERSION:2.0
CALSCALE:GREGORIAN
BEGIN:VEVENT
UID:49ddf8566bb133982f636f8f0276139d
DTSTAMP:20260422T213020Z
SUMMARY:12.15 Uhr Plauderlunch
DESCRIPTION:
URL:https://rotary-heitersberg.ch/bs/agenda/show/53489
DTSTART;TZID=Europe/Zurich:20150806T121500
DTEND;TZID=Europe/Zurich:20150806T121500
LOCATION:Gasthof Sternen
CATEGORIES:Rotary
END:VEVENT
BEGIN:VTIMEZONE
TZID:Europe/Zurich
BEGIN:DAYLIGHT
DTSTART:20150806T121500
TZNAME:CEST
TZOFFSETTO:+0200
TZOFFSETFROM:+0200
END:DAYLIGHT
END:VTIMEZONE
END:VCALENDAR
