BEGIN:VCALENDAR
PRODID:-//eluceo/ical//2.0/EN
VERSION:2.0
CALSCALE:GREGORIAN
BEGIN:VEVENT
UID:5c30c4e9c2371ba6f06b76bf52919858
DTSTAMP:20260422T192928Z
SUMMARY:18:30 Uhr Sponsorenlauf 143 / Dargebotene Hand
DESCRIPTION:
URL:https://rotary-heitersberg.ch/bs/agenda/show/44387
DTSTART;TZID=Europe/Zurich:20140904T183000
DTEND;TZID=Europe/Zurich:20140904T183000
LOCATION:Sportplatz Au\, Baden
CATEGORIES:Rotary
END:VEVENT
BEGIN:VTIMEZONE
TZID:Europe/Zurich
BEGIN:DAYLIGHT
DTSTART:20140904T183000
TZNAME:CEST
TZOFFSETTO:+0200
TZOFFSETFROM:+0200
END:DAYLIGHT
END:VTIMEZONE
END:VCALENDAR
