BEGIN:VCALENDAR
PRODID:-//eluceo/ical//2.0/EN
VERSION:2.0
CALSCALE:GREGORIAN
BEGIN:VEVENT
UID:522d527eca2ea609a267501fbecd1c70
DTSTAMP:20260422T193332Z
SUMMARY:12:15 Lunch bei Lägerebräu
DESCRIPTION:Govornik(ci): Beat Meier
URL:https://rotary-heitersberg.ch/bs/agenda/show/42621
DTSTART;TZID=Europe/Zurich:20140814T000000
DTEND;TZID=Europe/Zurich:20140814T000000
LOCATION:Gasthof Sternen
CATEGORIES:Rotary
END:VEVENT
BEGIN:VTIMEZONE
TZID:Europe/Zurich
BEGIN:DAYLIGHT
DTSTART:20140814T000000
TZNAME:CEST
TZOFFSETTO:+0200
TZOFFSETFROM:+0200
END:DAYLIGHT
END:VTIMEZONE
END:VCALENDAR
