BEGIN:VCALENDAR
PRODID:-//eluceo/ical//2.0/EN
VERSION:2.0
CALSCALE:GREGORIAN
BEGIN:VEVENT
UID:f1baf6e346d49a31366a435cb09b903e
DTSTAMP:20260424T132821Z
SUMMARY:10:30 Vorstandssitzung / 11:15 Kommissionen / 12:15 Plauderlunch
DESCRIPTION:
URL:https://rotary-heitersberg.ch/bs/agenda/show/42606
DTSTART;TZID=Europe/Zurich:20140904T000000
DTEND;TZID=Europe/Zurich:20140904T000000
LOCATION:Gasthof Sternen
CATEGORIES:Rotary
END:VEVENT
BEGIN:VTIMEZONE
TZID:Europe/Zurich
BEGIN:DAYLIGHT
DTSTART:20140904T000000
TZNAME:CEST
TZOFFSETTO:+0200
TZOFFSETFROM:+0200
END:DAYLIGHT
END:VTIMEZONE
END:VCALENDAR
