BEGIN:VCALENDAR
PRODID:-//eluceo/ical//2.0/EN
VERSION:2.0
CALSCALE:GREGORIAN
BEGIN:VEVENT
UID:9cec188f2da4e4bd533e65f08d552da2
DTSTAMP:20260422T183235Z
SUMMARY:Besuch Partner Club aus Thailand
DESCRIPTION:Eine Delegation unseres Partnerclubs wird uns in diesem Zeitra
 um in der Schweiz besuchen. \n\nInfos folgen. \nGovornik(ci): Rot. Chris
 tian Hort
URL:https://rotary-heitersberg.ch/bs/agenda/show/39777
DTSTART;TZID=Europe/Zurich:20140817T000000
DTEND;TZID=Europe/Zurich:20140824T000000
LOCATION:Gasthof Sternen
CATEGORIES:Rotary
END:VEVENT
BEGIN:VTIMEZONE
TZID:Europe/Zurich
BEGIN:DAYLIGHT
DTSTART:20140817T000000
TZNAME:CEST
TZOFFSETTO:+0200
TZOFFSETFROM:+0200
END:DAYLIGHT
END:VTIMEZONE
END:VCALENDAR
