BEGIN:VCALENDAR
PRODID:-//eluceo/ical//2.0/EN
VERSION:2.0
CALSCALE:GREGORIAN
BEGIN:VEVENT
UID:430b8182c9238cb09745f3ddf6baaba1
DTSTAMP:20260422T180600Z
SUMMARY:12:15 Plauderlunch
DESCRIPTION:
URL:https://rotary-heitersberg.ch/bs/agenda/show/39771
DTSTART;TZID=Europe/Zurich:20140403T000000
DTEND;TZID=Europe/Zurich:20140403T000000
LOCATION:Gasthof Sternen
CATEGORIES:Rotary
END:VEVENT
BEGIN:VTIMEZONE
TZID:Europe/Zurich
BEGIN:DAYLIGHT
DTSTART:20140403T000000
TZNAME:CEST
TZOFFSETTO:+0200
TZOFFSETFROM:+0200
END:DAYLIGHT
END:VTIMEZONE
END:VCALENDAR
