BEGIN:VCALENDAR
PRODID:-//eluceo/ical//2.0/EN
VERSION:2.0
CALSCALE:GREGORIAN
BEGIN:VEVENT
UID:f9e8038649f708a8448d866f5ce29237
DTSTAMP:20260422T164956Z
SUMMARY:20:00 Uhr 5. Midlife-Party
DESCRIPTION:Tanzen und Festen für einen guten Zweck!
URL:https://rotary-heitersberg.ch/bs/agenda/show/35573
DTSTART;TZID=Europe/Zurich:20140125T000000
DTEND;TZID=Europe/Zurich:20140125T000000
LOCATION:Stanzerei Baden
CATEGORIES:Rotary
END:VEVENT
BEGIN:VTIMEZONE
TZID:Europe/Zurich
BEGIN:STANDARD
DTSTART:20140125T000000
TZNAME:CET
TZOFFSETTO:+0100
TZOFFSETFROM:+0100
END:STANDARD
END:VTIMEZONE
END:VCALENDAR
