BEGIN:VCALENDAR
PRODID:-//eluceo/ical//2.0/EN
VERSION:2.0
CALSCALE:GREGORIAN
BEGIN:VEVENT
UID:c2e500ab012547dab1915fa761f61de5
DTSTAMP:20260422T163909Z
SUMMARY:2. Neurotarierseminar 2013
DESCRIPTION:
URL:https://rotary-heitersberg.ch/bs/agenda/show/33930
DTSTART;TZID=Europe/Zurich:20131116T000000
DTEND;TZID=Europe/Zurich:20131116T000000
LOCATION:Lenzburg
CATEGORIES:Rotary
END:VEVENT
BEGIN:VTIMEZONE
TZID:Europe/Zurich
BEGIN:STANDARD
DTSTART:20131116T000000
TZNAME:CET
TZOFFSETTO:+0100
TZOFFSETFROM:+0100
END:STANDARD
END:VTIMEZONE
END:VCALENDAR
