BEGIN:VCALENDAR
PRODID:-//eluceo/ical//2.0/EN
VERSION:2.0
CALSCALE:GREGORIAN
BEGIN:VEVENT
UID:8dcb3530092c991dc3b56c3e27f5ebcd
DTSTAMP:20260422T210758Z
SUMMARY:Traditionial Christmas-Lunch@Christian's home
DESCRIPTION:Was als spontane Idee gedacht war - ist nun Tradition  Feines g
 eniessen und gemeinsam feiern  Wer nicht dabei ist - verpasst was!  Weiter
 e Infos folgen\nGovornik(ci): Vorankündigung
URL:https://rotary-heitersberg.ch/bs/agenda/show/28407
DTSTART;TZID=Europe/Zurich:20131219T000000
DTEND;TZID=Europe/Zurich:20131219T000000
LOCATION:Christian's home / Adresse gemäss Anmeldung
CATEGORIES:Rotary
END:VEVENT
BEGIN:VTIMEZONE
TZID:Europe/Zurich
BEGIN:STANDARD
DTSTART:20131219T000000
TZNAME:CET
TZOFFSETTO:+0100
TZOFFSETFROM:+0100
END:STANDARD
END:VTIMEZONE
END:VCALENDAR
