BEGIN:VCALENDAR
PRODID:-//eluceo/ical//2.0/EN
VERSION:2.0
CALSCALE:GREGORIAN
BEGIN:VEVENT
UID:0cb6f6c7df48793383e89c8a47efc477
DTSTAMP:20260422T205841Z
SUMMARY:11:30 Lunch bei Ursi Jost (mit Thomas Felix) 
DESCRIPTION: \n\nUrsi Jost (Piger Immobilien) und Thomas Felix (Felix Hau
 stechnik/Windgate) freuen sich\, Euch die Solaranlagen auf den Geschäft
 shäusern zu zeigen und zu erklären.\n\n \n\nFür Gwundrige und Technikf
 reaks: Technische Daten \n\n \n\nLunch bei schönem Wetter auf dem Dach
 \, bei schlechtem Wetter bei der Tanzschule.\n\n 
URL:https://rotary-heitersberg.ch/bs/agenda/show/28323
DTSTART;TZID=Europe/Zurich:20130606T113000
DTEND;TZID=Europe/Zurich:20130606T113000
LOCATION:Schwimmbadstrasse 45\, Wettingen
CATEGORIES:Rotary
END:VEVENT
BEGIN:VTIMEZONE
TZID:Europe/Zurich
BEGIN:DAYLIGHT
DTSTART:20130606T113000
TZNAME:CEST
TZOFFSETTO:+0200
TZOFFSETFROM:+0200
END:DAYLIGHT
END:VTIMEZONE
END:VCALENDAR
