BEGIN:VCALENDAR
PRODID:-//eluceo/ical//2.0/EN
VERSION:2.0
CALSCALE:GREGORIAN
BEGIN:VEVENT
UID:0514dbe01686e43dcecdc059e53ed4a0
DTSTAMP:20260422T152000Z
SUMMARY:Kein Lunch Frohnleichnam
DESCRIPTION:
URL:https://rotary-heitersberg.ch/bs/agenda/show/28308
DTSTART;TZID=Europe/Zurich:20130530T121500
DTEND;TZID=Europe/Zurich:20130530T121500
LOCATION:Gasthof Sternen
CATEGORIES:Rotary
END:VEVENT
BEGIN:VTIMEZONE
TZID:Europe/Zurich
BEGIN:DAYLIGHT
DTSTART:20130530T121500
TZNAME:CEST
TZOFFSETTO:+0200
TZOFFSETFROM:+0200
END:DAYLIGHT
END:VTIMEZONE
END:VCALENDAR
