BEGIN:VCALENDAR
PRODID:-//eluceo/ical//2.0/EN
VERSION:2.0
CALSCALE:GREGORIAN
BEGIN:VEVENT
UID:9ed0771f343b863e144d387bc8222300
DTSTAMP:20260422T151651Z
SUMMARY:12:15 Plauderlunch 
DESCRIPTION:
URL:https://rotary-heitersberg.ch/bs/agenda/show/28306
DTSTART;TZID=Europe/Zurich:20130523T121500
DTEND;TZID=Europe/Zurich:20130523T121500
LOCATION:Gasthof Sternen
CATEGORIES:Rotary
END:VEVENT
BEGIN:VTIMEZONE
TZID:Europe/Zurich
BEGIN:DAYLIGHT
DTSTART:20130523T121500
TZNAME:CEST
TZOFFSETTO:+0200
TZOFFSETFROM:+0200
END:DAYLIGHT
END:VTIMEZONE
END:VCALENDAR
