BEGIN:VCALENDAR
PRODID:-//eluceo/ical//2.0/EN
VERSION:2.0
CALSCALE:GREGORIAN
BEGIN:VEVENT
UID:47dda414283cfbd2abc9b0ee67ba75fc
DTSTAMP:20260422T164231Z
SUMMARY:10:30 Vorstandssitzung  / 11:15 Kommissionen / 12:15 Jahresversamml
 ung / Herausforderung EHE
DESCRIPTION:Wahlen Amtsjahr 2014/2015
URL:https://rotary-heitersberg.ch/bs/agenda/show/24851
DTSTART;TZID=Europe/Zurich:20131212T000000
DTEND;TZID=Europe/Zurich:20131212T000000
LOCATION:Gasthof Sternen
CATEGORIES:Rotary
END:VEVENT
BEGIN:VTIMEZONE
TZID:Europe/Zurich
BEGIN:STANDARD
DTSTART:20131212T000000
TZNAME:CET
TZOFFSETTO:+0100
TZOFFSETFROM:+0100
END:STANDARD
END:VTIMEZONE
END:VCALENDAR
