BEGIN:VCALENDAR
PRODID:-//eluceo/ical//2.0/EN
VERSION:2.0
CALSCALE:GREGORIAN
BEGIN:VEVENT
UID:f6a729b076dd4b17034044f98051963c
DTSTAMP:20260424T230611Z
SUMMARY:Amtsübergabe
DESCRIPTION:17:00 Treffpunkt 18:00 Führung anschl. Abendprogramm
URL:https://rotary-heitersberg.ch/bs/agenda/show/21973
DTSTART;TZID=Europe/Zurich:20120630T170000
DTEND;TZID=Europe/Zurich:20120630T170000
LOCATION:Restaurant Zwei Raben - Kloster Fahr
CATEGORIES:Rotary
END:VEVENT
BEGIN:VTIMEZONE
TZID:Europe/Zurich
BEGIN:DAYLIGHT
DTSTART:20120630T170000
TZNAME:CEST
TZOFFSETTO:+0200
TZOFFSETFROM:+0200
END:DAYLIGHT
END:VTIMEZONE
END:VCALENDAR
