BEGIN:VCALENDAR
PRODID:-//eluceo/ical//2.0/EN
VERSION:2.0
CALSCALE:GREGORIAN
BEGIN:VEVENT
UID:b08dc19a7b88a441fff46da4128265d6
DTSTAMP:20260425T005702Z
SUMMARY:Generalversammlung
DESCRIPTION:
URL:https://rotary-heitersberg.ch/bs/agenda/show/21971
DTSTART;TZID=Europe/Zurich:20120628T113000
DTEND;TZID=Europe/Zurich:20120628T113000
LOCATION:Gasthof Sternen
CATEGORIES:Rotary
END:VEVENT
BEGIN:VTIMEZONE
TZID:Europe/Zurich
BEGIN:DAYLIGHT
DTSTART:20120628T113000
TZNAME:CEST
TZOFFSETTO:+0200
TZOFFSETFROM:+0200
END:DAYLIGHT
END:VTIMEZONE
END:VCALENDAR
