BEGIN:VCALENDAR
PRODID:-//eluceo/ical//2.0/EN
VERSION:2.0
CALSCALE:GREGORIAN
BEGIN:VEVENT
UID:571a6117f7b388f7b4572418322e31e6
DTSTAMP:20260423T161407Z
SUMMARY:15. Fredis Rotary Grümpi
DESCRIPTION:Govornik(ci): Für Menschen mit einer Beeinträchtigung
URL:https://rotary-heitersberg.ch/bs/agenda/show/179953
DTSTART;TZID=Europe/Zurich:20240817T093000
DTEND;TZID=Europe/Zurich:20240817T160000
LOCATION:Schulanlage Margeläcker\, Wettingen
CATEGORIES:Rotary
END:VEVENT
BEGIN:VTIMEZONE
TZID:Europe/Zurich
BEGIN:DAYLIGHT
DTSTART:20240817T093000
TZNAME:CEST
TZOFFSETTO:+0200
TZOFFSETFROM:+0200
END:DAYLIGHT
END:VTIMEZONE
END:VCALENDAR
