BEGIN:VCALENDAR
PRODID:-//eluceo/ical//2.0/EN
VERSION:2.0
CALSCALE:GREGORIAN
BEGIN:VEVENT
UID:f3a25684b4a97499a66144d83ab194c3
DTSTAMP:20260423T020522Z
SUMMARY:Badener Adventsmarkt 2023
DESCRIPTION:Web stranica: https://www.badener-adventsmarkt.ch/\nGovornik(ci
 ):  Mitten in der Badener Altstadt\, auf dem stimmungsvollen Kirchplatz\,
  warten jedes Jahr an rund 90 festlich dekorierten Ständen unzählige Pro
 dukte auf ihre Käufer. Das Besondere daran ist\, dass die meisten dieser 
 Produkte mit viel Liebe und Können durch Menschen mit einer Beeinträchti
 gung hergestellt oder bearbeitet werden.  
URL:https://rotary-heitersberg.ch/bs/agenda/show/170015
DTSTART;TZID=Europe/Zurich:20231209T090000
DTEND;TZID=Europe/Zurich:20231209T170000
LOCATION:Kirchenplatz Baden
CATEGORIES:Rotary
END:VEVENT
BEGIN:VTIMEZONE
TZID:Europe/Zurich
BEGIN:STANDARD
DTSTART:20231209T090000
TZNAME:CET
TZOFFSETTO:+0100
TZOFFSETFROM:+0100
END:STANDARD
END:VTIMEZONE
END:VCALENDAR
