BEGIN:VCALENDAR
PRODID:-//eluceo/ical//2.0/EN
VERSION:2.0
CALSCALE:GREGORIAN
BEGIN:VEVENT
UID:c970745d847a5b492b1f9ce74963702f
DTSTAMP:20260422T214301Z
SUMMARY:Midlife-Party
DESCRIPTION:
URL:https://rotary-heitersberg.ch/bs/agenda/show/145719
DTSTART;TZID=Europe/Zurich:20230603T170000
DTEND;TZID=Europe/Zurich:20230603T230000
LOCATION:Löwenscheune\, Wettingen
CATEGORIES:Rotary
END:VEVENT
BEGIN:VTIMEZONE
TZID:Europe/Zurich
BEGIN:DAYLIGHT
DTSTART:20230603T170000
TZNAME:CEST
TZOFFSETTO:+0200
TZOFFSETFROM:+0200
END:DAYLIGHT
END:VTIMEZONE
END:VCALENDAR
